BEGIN:VCALENDAR
VERSION:2.0
PRODID:-//Tailored for Impact - ECPv6.15.20//NONSGML v1.0//EN
CALSCALE:GREGORIAN
METHOD:PUBLISH
X-WR-CALNAME:Tailored for Impact
X-ORIGINAL-URL:https://tailoredforimpact.org
X-WR-CALDESC:Events for Tailored for Impact
REFRESH-INTERVAL;VALUE=DURATION:PT1H
X-Robots-Tag:noindex
X-PUBLISHED-TTL:PT1H
BEGIN:VTIMEZONE
TZID:UTC
BEGIN:STANDARD
TZOFFSETFROM:+0000
TZOFFSETTO:+0000
TZNAME:UTC
DTSTART:20220101T000000
END:STANDARD
END:VTIMEZONE
BEGIN:VEVENT
DTSTART;TZID=UTC:20231125T080000
DTEND;TZID=UTC:20231125T170000
DTSTAMP:20260423T083312
CREATED:20231125T155421Z
LAST-MODIFIED:20231125T155444Z
UID:2010-1700899200-1700931600@tailoredforimpact.org
SUMMARY:Educate to Elevate: Scholarship Fundraising Gala
DESCRIPTION:Be part of our annual Scholarship Fundraising Gala\, where we celebrate the power of education in transforming lives. Join us for an evening of inspiration\, entertainment\, and fundraising to support scholarships for girls from disadvantaged backgrounds. Your contribution can be a stepping stone towards a girl’s journey to education and empowerment.
URL:https://tailoredforimpact.org/event/educate-to-elevate-scholarship-fundraising-gala/
LOCATION:Sarit Centre\, Westlands\, Nairobi\, Nairobi\, 00100\, Kenya
CATEGORIES:Gala
ATTACH;FMTTYPE=image/webp:https://tailoredforimpact.org/wp-content/uploads/2023/11/NBO-holding-event.webp
END:VEVENT
END:VCALENDAR